Workbook

Sheet 六年級60+100決賽名冊
A1: 109校運田徑60M&100M決賽名冊
A2: êê請小朋友記住決賽時自己的比賽道次。
A3: =[1]五男60m初賽!A1 -> 序 | B3: =[1]五男60m初賽!B1 -> 類別 | C3: =[1]五男60m初賽!C1 -> 年 | D3: =[1]五男60m初賽!D1 -> 班 | E3: =[1]五男60m初賽!E1 -> 姓名 | F3: =[1]五男60m初賽!F1 -> 性別 | G3: =[1]五男60m初賽!G1 -> 項目 | H3: 比賽時間 | I3: 比賽道次 | J3: 集合檢錄 時間 | K3: 集合地點
A4: 1 | B4: 徑 | C4: 六 | D4: 3 | E4: 游苡珩 | F4: 女 | G4: 60公尺 | H4: 11/25 (三) | I4: 1 | J4: ※09:25※集合檢錄不到，將不會補賽 | K4: 60公尺起點 (司令台前跑道，靠近5號樓梯口)
A5: 2 | B5: 徑 | C5: 六 | D5: 8 | E5: 魏子淳 | F5: 女 | G5: 60公尺 | I5: 2
A6: 3 | B6: 徑 | C6: 六 | D6: 6 | E6: 許家瑜 | F6: 女 | G6: 60公尺 | I6: 3
A7: 4 | B7: 徑 | C7: 六 | D7: 6 | E7: 單婕菱 | F7: 女 | G7: 60公尺 | I7: 4
A8: 5 | B8: 徑 | C8: 六 | D8: 2 | E8: 賴星羽 | F8: 女 | G8: 60公尺 | I8: 5
A9: 6 | B9: 徑 | C9: 六 | D9: 1 | E9: 黃貴芯 | F9: 女 | G9: 60公尺 | I9: 6
A10: 7 | B10: 徑 | C10: 六 | D10: 4 | E10: 劉馨羽 | F10: 女 | G10: 60公尺 | I10: 7
A11: 1 | B11: 徑 | C11: 六 | D11: 2 | E11: 蔡仲軒 | F11: 男 | G11: 60公尺 | I11: 1
A12: 2 | B12: 徑 | C12: 六 | D12: 4 | E12: 何秉哲 | F12: 男 | G12: 60公尺 | I12: 2
A13: 3 | B13: 徑 | C13: 六 | D13: 8 | E13: 邱奕翔 | F13: 男 | G13: 60公尺 | I13: 3
A14: 4 | B14: 徑 | C14: 六 | D14: 1 | E14: 宋崇椲 | F14: 男 | G14: 60公尺 | I14: 4
A15: 5 | B15: 徑 | C15: 六 | D15: 8 | E15: 徐博鎮 | F15: 男 | G15: 60公尺 | I15: 5
A16: 6 | B16: 徑 | C16: 六 | D16: 6 | E16: 譚文育 | F16: 男 | G16: 60公尺 | I16: 6
A17: 7 | B17: 徑 | C17: 六 | D17: 6 | E17: 林裕家 | F17: 男 | G17: 60公尺 | I17: 7
A18: 1 | B18: 徑 | C18: 六 | D18: 2 | E18: 吳孟芸 | F18: 女 | G18: 100公尺 | I18: 1 | K18: 川堂前 跑道
A19: 2 | B19: 徑 | C19: 六 | D19: 1 | E19: 康澤若 | F19: 女 | G19: 100公尺 | I19: 2
A20: 3 | B20: 徑 | C20: 六 | D20: 6 | E20: 車名靜 | F20: 女 | G20: 100公尺 | I20: 3
A21: 4 | B21: 徑 | C21: 六 | D21: 3 | E21: 詹芝潁 | F21: 女 | G21: 100公尺 | I21: 4
A22: 5 | B22: 徑 | C22: 六 | D22: 6 | E22: 王妡羽 | F22: 女 | G22: 100公尺 | I22: 5
A23: 6 | B23: 徑 | C23: 六 | D23: 3 | E23: 簡湘淣 | F23: 女 | G23: 100公尺 | I23: 6
A24: 7 | B24: 徑 | C24: 六 | D24: 5 | E24: 莊采靜 | F24: 女 | G24: 100公尺 | I24: 7
A25: 1 | B25: 徑 | C25: 六 | D25: 4 | E25: 林威辰 | F25: 男 | G25: 100公尺 | I25: 1
A26: 2 | B26: 徑 | C26: 六 | D26: 1 | E26: 袁奕宸 | F26: 男 | G26: 100公尺 | I26: 2
A27: 3 | B27: 徑 | C27: 六 | D27: 1 | E27: 林毅樺 | F27: 男 | G27: 100公尺 | I27: 3
A28: 4 | B28: 徑 | C28: 六 | D28: 6 | E28: 蔡承佑 | F28: 男 | G28: 100公尺 | I28: 4
A29: 5 | B29: 徑 | C29: 六 | D29: 8 | E29: 吳秉宥 | F29: 男 | G29: 100公尺 | I29: 5
A30: 6 | B30: 徑 | C30: 六 | D30: 3 | E30: 彭祺綸 | F30: 男 | G30: 100公尺 | I30: 6
A31: 7 | B31: 徑 | C31: 六 | D31: 4 | E31: 柯法圻 | F31: 男 | G31: 100公尺 | I31: 7

Sheet 五年級60+100決賽名冊
A1: 109校運田徑60M&100M決賽名冊
A2: êê請小朋友記住決賽時自己的比賽道次。
A3: =[1]五男60m初賽!A1 -> 序 | B3: =[1]五男60m初賽!B1 -> 類別 | C3: =[1]五男60m初賽!C1 -> 年 | D3: =[1]五男60m初賽!D1 -> 班 | E3: =[1]五男60m初賽!E1 -> 姓名 | F3: =[1]五男60m初賽!F1 -> 性別 | G3: =[1]五男60m初賽!G1 -> 項目 | H3: 比賽時間 | I3: 比賽道次 | J3: 集合檢錄 時間 | K3: 集合地點
A4: 1 | B4: 徑 | C4: 五 | D4: 2 | E4: 涂子婷 | F4: 女 | G4: 60公尺 | H4: 11/25 (三) | I4: 1 | J4: ※09:25※集合檢錄不到，將不會補賽 | K4: 60公尺起點 (司令台前跑道，靠近5號樓梯口)
A5: 2 | B5: 徑 | C5: 五 | D5: 8 | E5: 黃于庭 | F5: 女 | G5: 60公尺 | I5: 2
A6: 3 | B6: 徑 | C6: 五 | D6: 8 | E6: 雷子萱 | F6: 女 | G6: 60公尺 | I6: 3
A7: 4 | B7: 徑 | C7: 五 | D7: 7 | E7: 陳羿璇 | F7: 女 | G7: 60公尺 | I7: 4
A8: 5 | B8: 徑 | C8: 五 | D8: 1 | E8: 孫湘喻 | F8: 女 | G8: 60公尺 | I8: 5
A9: 6 | B9: 徑 | C9: 五 | D9: 5 | E9: 陳怡安 | F9: 女 | G9: 60公尺 | I9: 6
A10: 7 | B10: 徑 | C10: 五 | D10: 1 | E10: 陳婕欣 | F10: 女 | G10: 60公尺 | I10: 7
A11: 1 | B11: 徑 | C11: 五 | D11: 5 | E11: 蔡國華 | F11: 男 | G11: 60公尺 | I11: 1
A12: 2 | B12: 徑 | C12: 五 | D12: 1 | E12: 石宇傑 | F12: 男 | G12: 60公尺 | I12: 2
A13: 3 | B13: 徑 | C13: 五 | D13: 4 | E13: 蔡承恩 | F13: 男 | G13: 60公尺 | I13: 3
A14: 4 | B14: 徑 | C14: 五 | D14: 7 | E14: 劉冠甫 | F14: 男 | G14: 60公尺 | I14: 4
A15: 5 | B15: 徑 | C15: 五 | D15: 2 | E15: 呂宏州 | F15: 男 | G15: 60公尺 | I15: 5
A16: 6 | B16: 徑 | C16: 五 | D16: 7 | E16: 陳 熙 | F16: 男 | G16: 60公尺 | I16: 6
A17: 7 | B17: 徑 | C17: 五 | D17: 4 | E17: 洪翊恂 | F17: 男 | G17: 60公尺 | I17: 7
A18: 1 | B18: 徑 | C18: 五 | D18: 1 | E18: 林子芸 | F18: 女 | G18: 100公尺 | I18: 1 | K18: 川堂前 跑道
A19: 2 | B19: 徑 | C19: 五 | D19: 8 | E19: 董子蕾 | F19: 女 | G19: 100公尺 | I19: 2
A20: 3 | B20: 徑 | C20: 五 | D20: 5 | E20: 林佳欣 | F20: 女 | G20: 100公尺 | I20: 3
A21: 4 | B21: 徑 | C21: 五 | D21: 6 | E21: 徐宇彤 | F21: 女 | G21: 100公尺 | I21: 4
A22: 5 | B22: 徑 | C22: 五 | D22: 3 | E22: 王亮絜 | F22: 女 | G22: 100公尺 | I22: 5
A23: 6 | B23: 徑 | C23: 五 | D23: 2 | E23: 郭星岑 | F23: 女 | G23: 100公尺 | I23: 6
A24: 7 | B24: 徑 | C24: 五 | D24: 7 | E24: 何家儀 | F24: 女 | G24: 100公尺 | I24: 7
A25: 1 | B25: 徑 | C25: 五 | D25: 1 | E25: 李守訓 | F25: 男 | G25: 100公尺 | I25: 1
A26: 2 | B26: 徑 | C26: 五 | D26: 3 | E26: 高唯硯 | F26: 男 | G26: 100公尺 | I26: 2
A27: 3 | B27: 徑 | C27: 五 | D27: 2 | E27: 黃得豐 | F27: 男 | G27: 100公尺 | I27: 3
A28: 4 | B28: 徑 | C28: 五 | D28: 7 | E28: 賴宥廷 | F28: 男 | G28: 100公尺 | I28: 4
A29: 5 | B29: 徑 | C29: 五 | D29: 4 | E29: 謝昱辰 | F29: 男 | G29: 100公尺 | I29: 5
A30: 6 | B30: 徑 | C30: 五 | D30: 8 | E30: 沈恩宇 | F30: 男 | G30: 100公尺 | I30: 6
A31: 7 | B31: 徑 | C31: 五 | D31: 7 | E31: 陳勁源 | F31: 男 | G31: 100公尺 | I31: 7

Sheet 四年級60+100決賽名冊 
A1: 109校運田徑60M&100M決賽名冊
A2: êê請小朋友記住決賽時自己的比賽道次。
A3: =[1]五男60m初賽!A1 -> 序 | B3: =[1]五男60m初賽!B1 -> 類別 | C3: =[1]五男60m初賽!C1 -> 年 | D3: =[1]五男60m初賽!D1 -> 班 | E3: =[1]五男60m初賽!E1 -> 姓名 | F3: =[1]五男60m初賽!F1 -> 性別 | G3: =[1]五男60m初賽!G1 -> 項目 | H3: 比賽時間 | I3: 比賽道次 | K3: 集合檢錄 時間 | L3: 集合地點
A4: 1 | B4: 徑 | C4: 四 | D4: 4 | E4: 潘宥伶 | F4: 女 | G4: 60公尺 | H4: 11/25 (三) | I4: 1 | K4: ※09:25※集合檢錄不到，將不會補賽 | L4: 60公尺起點 (司令台前跑道，靠近5號樓梯口)
A5: 2 | B5: 徑 | C5: 四 | D5: 6 | E5: 劉芯瑜 | F5: 女 | G5: 60公尺 | I5: 2
A6: 3 | B6: 徑 | C6: 四 | D6: 3 | E6: 陳筱玟 | F6: 女 | G6: 60公尺 | I6: 3
A7: 4 | B7: 徑 | C7: 四 | D7: 8 | E7: 楊芷瑄 | F7: 女 | G7: 60公尺 | I7: 4
A8: 5 | B8: 徑 | C8: 四 | D8: 2 | E8: 劉柔辰 | F8: 女 | G8: 60公尺 | I8: 5
A9: 6 | B9: 徑 | C9: 四 | D9: 7 | E9: 魏寀軒 | F9: 女 | G9: 60公尺 | I9: 6
A10: 7 | B10: 徑 | C10: 四 | D10: 3 | E10: 范弈格 | F10: 女 | G10: 60公尺 | I10: 7
A11: 1 | B11: 徑 | C11: 四 | D11: 3 | E11: 黃宥善 | F11: 男 | G11: 60公尺 | I11: 1
A12: 2 | B12: 徑 | C12: 四 | D12: 2 | E12: 李泳霖 | F12: 男 | G12: 60公尺 | I12: 2
A13: 3 | B13: 徑 | C13: 四 | D13: 4 | E13: 黃品堯 | F13: 男 | G13: 60公尺 | I13: 3
A14: 4 | B14: 徑 | C14: 四 | D14: 6 | E14: 陳斯齊 | F14: 男 | G14: 60公尺 | I14: 4
A15: 5 | B15: 徑 | C15: 四 | D15: 6 | E15: 洪承嶢 | F15: 男 | G15: 60公尺 | I15: 5
A16: 6 | B16: 徑 | C16: 四 | D16: 3 | E16: 石恩宇 | F16: 男 | G16: 60公尺 | I16: 6
A17: 7 | B17: 徑 | C17: 四 | D17: 2 | E17: 周聖崧 | F17: 男 | G17: 60公尺 | I17: 7
A18: 1 | B18: 徑 | C18: 四 | D18: 1 | E18: 劉 篆 | F18: 女 | G18: 100公尺 | I18: 1 | L18: 川堂前 跑道
A19: 2 | B19: 徑 | C19: 四 | D19: 3 | E19: 沈姵彤 | F19: 女 | G19: 100公尺 | I19: 2
A20: 3 | B20: 徑 | C20: 四 | D20: 6 | E20: 宋炘曈 | F20: 女 | G20: 100公尺 | I20: 3
A21: 4 | B21: 徑 | C21: 四 | D21: 6 | E21: 周其卉 | F21: 女 | G21: 100公尺 | I21: 4
A22: 5 | B22: 徑 | C22: 四 | D22: 5 | E22: 吳雨澄 | F22: 女 | G22: 100公尺 | I22: 5
A23: 6 | B23: 徑 | C23: 四 | D23: 5 | E23: 謝沛霖 | F23: 女 | G23: 100公尺 | I23: 6
A24: 7 | B24: 徑 | C24: 四 | D24: 8 | E24: 陳萱芸 | F24: 女 | G24: 100公尺 | I24: 7
A25: 1 | B25: 徑 | C25: 四 | D25: 2 | E25: 文可程 | F25: 男 | G25: 100公尺 | I25: 1
A26: 2 | B26: 徑 | C26: 四 | D26: 3 | E26: 李俊宇 | F26: 男 | G26: 100公尺 | I26: 2
A27: 3 | B27: 徑 | C27: 四 | D27: 6 | E27: 楊子濬 | F27: 男 | G27: 100公尺 | I27: 3
A28: 4 | B28: 徑 | C28: 四 | D28: 3 | E28: 陳靖岳 | F28: 男 | G28: 100公尺 | I28: 4
A29: 5 | B29: 徑 | C29: 四 | D29: 6 | E29: 翁博辰 | F29: 男 | G29: 100公尺 | I29: 5
A30: 6 | B30: 徑 | C30: 四 | D30: 7 | E30: 王榮祖 | F30: 男 | G30: 100公尺 | I30: 6
A31: 7 | B31: 徑 | C31: 四 | D31: 2 | E31: 顏學睿 | F31: 男 | G31: 100公尺 | I31: 7

Sheet 三年級60決賽名冊
A1: 109校運田徑60M決賽名冊
A2: êê請小朋友記住決賽時自己的比賽道次。
A3: =[1]五男60m初賽!A1 -> 序 | B3: =[1]五男60m初賽!B1 -> 類別 | C3: =[1]五男60m初賽!C1 -> 年 | D3: =[1]五男60m初賽!D1 -> 班 | E3: =[1]五男60m初賽!E1 -> 姓名 | F3: =[1]五男60m初賽!F1 -> 性別 | G3: =[1]五男60m初賽!G1 -> 項目 | H3: 比賽時間 | I3: 比賽道次 | J3: 集合檢錄 時間 | K3: 集合地點
A4: 1 | B4: 徑 | C4: 三 | D4: 8 | E4: 陳品妤 | F4: 女 | G4: 60公尺 | H4: 11/25 (三) | I4: 1 | J4: ※09:25※集合檢錄不到，將不會補賽 | K4: 60公尺起點 (司令台前跑道，靠近5號樓梯口)
A5: 2 | B5: 徑 | C5: 三 | D5: 3 | E5: 何仲翎 | F5: 女 | G5: 60公尺 | I5: 2
A6: 3 | B6: 徑 | C6: 三 | D6: 1 | E6: 林奇妤 | F6: 女 | G6: 60公尺 | I6: 3
A7: 4 | B7: 徑 | C7: 三 | D7: 2 | E7: 鍾雨彤 | F7: 女 | G7: 60公尺 | I7: 4
A8: 5 | B8: 徑 | C8: 三 | D8: 6 | E8: 吳芯宜 | F8: 女 | G8: 60公尺 | I8: 5
A9: 6 | B9: 徑 | C9: 三 | D9: 2 | E9: 陳怡安 | F9: 女 | G9: 60公尺 | I9: 6
A10: 7 | B10: 徑 | C10: 三 | D10: 9 | E10: 廖予喬 | F10: 女 | G10: 60公尺 | I10: 7
A11: 1 | B11: 徑 | C11: 三 | D11: 3 | E11: 蔡宇丞 | F11: 男 | G11: 60公尺 | I11: 1
A12: 2 | B12: 徑 | C12: 三 | D12: 2 | E12: 詹得瑔 | F12: 男 | G12: 60公尺 | I12: 2
A13: 3 | B13: 徑 | C13: 三 | D13: 2 | E13: 馮稟巖．肯將 | F13: 男 | G13: 60公尺 | I13: 3
A14: 4 | B14: 徑 | C14: 三 | D14: 9 | E14: 劉庭睿 | F14: 男 | G14: 60公尺 | I14: 4
A15: 5 | B15: 徑 | C15: 三 | D15: 6 | E15: 杜炯毅 | F15: 男 | G15: 60公尺 | I15: 5
A16: 6 | B16: 徑 | C16: 三 | D16: 3 | E16: 尤浚懿 | F16: 男 | G16: 60公尺 | I16: 6
A17: 7 | B17: 徑 | C17: 三 | D17: 8 | E17: 吳承恩 | F17: 男 | G17: 60公尺 | I17: 7
